BEGIN:VCALENDAR
VERSION:2.0
PRODID:-//wp-events-plugin.com//5.95//EN
BEGIN:VEVENT
UID:d50e0503-4d9b-4ab6-bb60-ccbd150920d7
DTSTART;VALUE=DATE:20261123
DTEND;VALUE=DATE:20261126
DTSTAMP:20260203T133803Z
SUMMARY:International Symposium on Energy from Biomass and Waste\, Venice
DESCRIPTION:VENICE 2026 - 11th INTERNATIONAL SYMPOSIUM ON ENERGY FROM BIOMASS AND WASTE will be held from 23 to 25 November 2026 in Venice\, Italy in the prestigious venue of Palazzo Dandolo\, incorporated in the first-class Hotel Monaco &amp\; Grand Canal\, just a few steps away from Piazza San Marco.\n\nThe 10th edition of the Symposium brought together 214 delegates coming from all around the world\, representing 36 different countries. The largest delegation came from South Korea (39 attendees)\, followed by Italy\, China\, Japan\, Germany. Read the full post-event report &gt\;\nThe programme included more than 130 scientific presentations organised in 3 parallel tracks of oral sessions\, workshops and posters\, lively social events and outstanding networking opportunities.
LOCATION:Hotel Monaco & Grand Canal\, Piazza San Marco\, Venezia\, Italy
URL:https://www.hz-events.ch/events/venice-2016
END:VEVENT
END:VCALENDAR