BEGIN:VCALENDAR
VERSION:2.0
PRODID:-//wp-events-plugin.com//5.95//EN
BEGIN:VEVENT
UID:a48ce2fa-aa23-4052-bc70-a6250e1a5dba
DTSTART;VALUE=DATE:20260428
DTEND;VALUE=DATE:20260430
DTSTAMP:20251218T144934Z
SUMMARY:CO2-based Fuels and Chemicals Conference 2026
DESCRIPTION:The CO2-based Fuels and Chemicals Conference has successfully established itself as an international and unique meeting and networking ground for the entire Carbon Capture and Utilisation (CCU) and Power-to-X industry and its customers. The upcoming 14th edition of the conference will take place on 28–29 April 2026\, Cologne\, Germany as a hybrid event. Organiser nova-Institute expects over 230 leading international experts in the field of CCU\, green hydrogen production and Power-to-X. Once more the event will showcase the latest innovations and most important developments in the fast-growing field of Carbon Capture and Utilisation with plenty of opportunities to network.
LOCATION:Maternushaus\, Kardinal-Frings-Str. 1-3\, 50668 Cologne\, Germany
URL:https://www.hz-events.ch/events/co2-based-fuels-and-chemicals-conference-2026
END:VEVENT
END:VCALENDAR