BEGIN:VCALENDAR
VERSION:2.0
PRODID:-//wp-events-plugin.com//5.95//EN
BEGIN:VEVENT
UID:7351f5f3-2cf9-4eed-bfc9-b8b06652e0bd
DTSTART;VALUE=DATE:20261110
DTEND;VALUE=DATE:20261112
DTSTAMP:20251219T172633Z
SUMMARY:Biomasseforum - Bad Hersfeld (DE)
DESCRIPTION:Das Team vom Witzenhausen-Institut möchte sich bei allen Referenten\, Ausstellern und Teilnehmenden des 16. Bad Hersfelder Biomasseforums herzlich bedanken.\n\nMit über 220 Teilnehmerinnen und Teilnehmern\, die sich mit der Erfassung und Verwertung organischer Abfälle beschäftigen\, 17 Austellern und über 20 Fachbeiträgen\, war das zweitägige 16. Bad Hersfelder Biomasseforum\, welches das Witzenhausen-Institut im November 2024 ausrichtete\, wieder Treffpunkt der Szene.\n\nZentrale Botschaft des Forums:\n\nBiogut und Grüngut stellen wertvolle Ressourcen dar\, um daraus sowohl stofflich als auch energetisch Produkte mit wachsender Bedeutung für Klimaschutz und Resilienz zu erzeugen. Daher ist es wichtig\, deren Potenziale vollständig zu erschließen. Dabei spielen sowohl die Qualität als auch der hochwertige Einsatz dieser Produkte eine entscheidende Rolle\, nicht nur aufgrund rechtlicher Vorgaben\, sondern auch für das Selbstverständnis und das Image der Kreislaufwirtschaft. Ziel ist bis 2030 ca. 10 Mio. Tonnen Komposte zu erzeugen\, was in etwa einer Verdoppelung der heutigen Menge entspricht.\n\nDie gute Nachricht:\n\nDie Qualität\, insbesondere von Komposten aus Biogut und Grüngut\, hat sich in den letzten Jahren kontinuierlich verbessert und die notwendigen Werkzeuge\, um diese Qualitätssteigerung fortzuführen\, sind vorhanden.\n\nDas zeigen die vielen positiven Beispiele aus der Praxis.\n\nAlle Vorträge sind ausführlich im Tagungsband dargestellt.\n\nWir hoffen\, dass Sie von dem Biomasseforum profitieren konnten und freuen uns schon jetzt darauf Sie wieder beim 17. Biomasseforum\, am 25. und 26. November 2025\, in der Stadthalle Bad Hersfeld begrüßen zu dürfen.
LOCATION:Stadhalle Bad Hersfeld\, Wittastraße 5\, 36251\, Bad Hersfeld\, Germany
URL:https://www.hz-events.ch/events/biomasseforum-bad-hersfeld-germany-2
END:VEVENT
END:VCALENDAR